BEGIN:VCALENDAR
VERSION:2.0
PRODID:-//Compagnie Cocotte Minute - ECPv4.6.26.1//NONSGML v1.0//EN
CALSCALE:GREGORIAN
METHOD:PUBLISH
X-WR-CALNAME:Compagnie Cocotte Minute
X-ORIGINAL-URL:http://compagniecocotteminute.com
X-WR-CALDESC:Évènements pour Compagnie Cocotte Minute
BEGIN:VEVENT
DTSTART;TZID=Europe/Paris:20190131T203000
DTEND;TZID=Europe/Paris:20190131T214500
DTSTAMP:20260424T220814
CREATED:20181124T095137Z
LAST-MODIFIED:20181124T095137Z
UID:2851-1548966600-1548971100@compagniecocotteminute.com
SUMMARY:Dans Ma Tête à Marseille
DESCRIPTION:« Parfois je me contredis\, parfois non. (Enfin ça dépend) » Lorsqu’un comédien\, seul en scène\, cherche son inspiration et décortique le processus à la loupe\, on assiste à un florilège de tempêtes intérieures ! \n
URL:http://compagniecocotteminute.com/dates/dans-ma-tete-a-marseille/
LOCATION:Théâtre L’Art Dû\, 83\, Rue Marengo\, Marseille\, 13006\, France
CATEGORIES:Seul en scène
ATTACH;FMTTYPE=image/jpeg:http://compagniecocotteminute.com/wp-content/uploads/2018/11/laurent-pit-dans-ma-tete-ok.jpg
END:VEVENT
END:VCALENDAR