BEGIN:VCALENDAR
VERSION:2.0
PRODID:-//Compagnie Cocotte Minute - ECPv4.6.26.1//NONSGML v1.0//EN
CALSCALE:GREGORIAN
METHOD:PUBLISH
X-WR-CALNAME:Compagnie Cocotte Minute
X-ORIGINAL-URL:http://compagniecocotteminute.com
X-WR-CALDESC:Évènements pour Compagnie Cocotte Minute
BEGIN:VEVENT
DTSTART;TZID=Europe/Paris:20190309T203000
DTEND;TZID=Europe/Paris:20190309T220000
DTSTAMP:20260425T111151
CREATED:20181127T084538Z
LAST-MODIFIED:20181127T084619Z
UID:2876-1552163400-1552168800@compagniecocotteminute.com
SUMMARY:Les Instantanés à Marseille
DESCRIPTION:Les Instantanés « L’apologie de l’instant ! » Les Instantanés proposent un spectacle entièrement improvisé à partir des sujets du public. \n
URL:http://compagniecocotteminute.com/dates/les-instantanes-a-marseille-4/
LOCATION:Théâtre L’Art Dû\, 83\, Rue Marengo\, Marseille\, 13006\, France
CATEGORIES:Impro,Spectacle
ATTACH;FMTTYPE=image/jpeg:http://compagniecocotteminute.com/wp-content/uploads/2018/11/affiche.instantanes-2-ok.jpg
END:VEVENT
END:VCALENDAR