BEGIN:VCALENDAR
VERSION:2.0
PRODID:-//Compagnie Cocotte Minute - ECPv4.6.26.1//NONSGML v1.0//EN
CALSCALE:GREGORIAN
METHOD:PUBLISH
X-WR-CALNAME:Compagnie Cocotte Minute
X-ORIGINAL-URL:http://compagniecocotteminute.com
X-WR-CALDESC:Évènements pour Compagnie Cocotte Minute
BEGIN:VEVENT
DTSTART;TZID=Europe/Paris:20190323T203000
DTEND;TZID=Europe/Paris:20190323T220000
DTSTAMP:20260425T205525
CREATED:20181128T100126Z
LAST-MODIFIED:20181128T101102Z
UID:2905-1553373000-1553378400@compagniecocotteminute.com
SUMMARY:Les Instantanés à Montpellier
DESCRIPTION:COMEDIE du RIRE 2019 SALLE MOLIÈRE LES INSTANTANÉS Les Instantanés « L’apologie de l’instant ! » Les Instantanés proposent un spectacle entièrement improvisé à partir des sujets du public. \n
URL:http://compagniecocotteminute.com/dates/les-instantanes-a-montpellier/
LOCATION:Salle Molière Opéra Comédie\, Place Molière\, Montpellier\, 34000\, France
CATEGORIES:Impro,Spectacle
ATTACH;FMTTYPE=image/jpeg:http://compagniecocotteminute.com/wp-content/uploads/2018/11/affiche.instantanes-2-ok.jpg
END:VEVENT
END:VCALENDAR