BEGIN:VCALENDAR
VERSION:2.0
PRODID:-//Compagnie Cocotte Minute - ECPv4.6.26.1//NONSGML v1.0//EN
CALSCALE:GREGORIAN
METHOD:PUBLISH
X-WR-CALNAME:Compagnie Cocotte Minute
X-ORIGINAL-URL:http://compagniecocotteminute.com
X-WR-CALDESC:Évènements pour Compagnie Cocotte Minute
BEGIN:VEVENT
DTSTART;TZID=Europe/Paris:20190123T203000
DTEND;TZID=Europe/Paris:20190123T220000
DTSTAMP:20260424T170822
CREATED:20181124T092610Z
LAST-MODIFIED:20181124T095348Z
UID:2842-1548275400-1548280800@compagniecocotteminute.com
SUMMARY:les instantanés au Crès
DESCRIPTION:Les Instantanés « L’apologie de l’instant ! » Les Instantanés proposent un spectacle entièrement improvisé à partir des sujets du public.  \n
URL:http://compagniecocotteminute.com/dates/les-instantanes-au-cres-2/
LOCATION:Théâtre LA COMÉDIE DU MAS DU PONT\, Mas du Pont\, LE CRES\, 34920\, France
CATEGORIES:Impro
ATTACH;FMTTYPE=image/jpeg:http://compagniecocotteminute.com/wp-content/uploads/2018/11/affiche.instantanes-2-ok.jpg
END:VEVENT
END:VCALENDAR